BEGIN:VCALENDAR
VERSION:2.0
PRODID:-//https://mnar.ro///NONSGML kigkonsult.se iCalcreator 2.10.15//
METHOD:PUBLISH
BEGIN:VEVENT
UID:20260421T123051EEST-0510odaIrS@https://mnar.ro/
DTSTAMP:20260421T093051Z
DESCRIPTION:Muzeul Național de Artă al României vă invită cu prilejul Zilei
  Naționale Constantin Brâncuși\, din data de 19 februarie 2023\, la o seri
 e de activități destinate atât persoanelor adulte\, cât și copiilor.\nPubl
 icul adult este invitat la un tur ghidat al operelor lui Brâncuși aflate î
 n Galeria de Artă Românească Modernă a MNAR\, susținut de Miruna Moraru\, 
 muzeograf în cadrul Secției de Artă Românească Modernă. Lucrări precum\, S
 omnul\, Danaida\, Macheta pilonului Porţii Sărutului\, Scaun\, Cap de copi
 l\, Supliciul\, Prometeu sau Rugăciunea&nbsp\;vor fi prezentate și context
 ualizate în cadrul întregii opere brâncușiene.\nCopiii între 8 și 14 ani s
 unt invitați să pătrundă în universul operei brâncușiene prin intermediul 
 jocului\, al simțurilor și al experienței directe în cadrul deosebit al at
 elierului „Pasărea ascunsă în piatră”. Aceștia vor vizita operele original
 e ale lui Brâncuși în sala dedicată din Galeria de Artă Românească Modernă
 \, apoi vor fi însoțiți în atelierul vizual-tactil dedicat lui Brâncuși al
  MNAR unde vor avea ocazia să lucreze cu materiale nobile precum piatra\, 
 lemnul și bronzul\, și cu instrumente importante folosite de Brâncuși\, pr
 ecum dalta\, pila sau piatra de ascuțit.\nSpațiul-atelier „Pasărea ascunsă
  în piatră” a fost conceput si realizat de către specialiștii în educație 
 ai Muzeului Național de Artă Modernă - Centrul Georges Pompidou din Paris 
 și donat în 2007 Muzeului Național de Artă al României. MNAR este deținăto
 rul celei mai mari colecții de opere ale lui Constantin Brâncuși din Român
 ia.\nPROGRAM 19 Februarie 2023\nora 11:00&nbsp\;Atelier „Pasărea ascunsă î
 n piatra” copii 8 – 12 ani\nora 14:00 Atelier „Pasărea ascunsă în piatra” 
 copii 10 – 14 ani\nora 16:00 Tur ghidat în Sala Brâncuși din Galeria Națio
 nală\, susținut de Miruna Moraru\, muzeograf Secția Artă Românească Modern
 ă.\nParticiparea la atelierele pentru copii se face cu înscriere prealabil
 ă la adresa educatie@art.museum.ro. Preț atelier: 35 lei/copil. Intrarea s
 e face prin Galeria Națională\, Calea Victoriei nr. 49-53. Ateliere susțin
 ute de Ioana Ciuștea.\nParticiparea la turul ghidat se va face în baza bil
 etului de intrare la Galeria Națională și în limita a 30 persoane. Preț bi
 let intrare: 24 lei la care se aplică reduceri și gratuități\; ghidaj grat
 uit. https://mail.mnar.ro/evenimente-muzeu/eveniment/663-ziua-națională-co
 nstantin-brâncuși
DTSTART;VALUE=DATE:20230219
LOCATION:Muzeul Național de Artă al României - Galeria de Artă Românească M
 odernă (Calea Victoriei 49\, București\, România)
SUMMARY:Ziua Națională Constantin Brâncuși
URL:https://mail.mnar.ro/evenimente-muzeu/eveniment/663-ziua-națională-cons
 tantin-brâncuși
END:VEVENT
END:VCALENDAR
