BEGIN:VCALENDAR
VERSION:2.0
PRODID:-//https://mnar.ro///NONSGML kigkonsult.se iCalcreator 2.10.15//
METHOD:PUBLISH
BEGIN:VEVENT
UID:20260421T111856EEST-80279s1ozv@https://mnar.ro/
DTSTAMP:20260421T081856Z
DESCRIPTION:Program de Sarbatori\n24\, 25\, 26\, decembrie&nbsp\;2025 - înc
 his\n27 și 28 decembrie 2025 - deschis 31\ndecembrie 2025\, 1\, 2 ianuarie
  2026 - închis\n3 - 4 ianuarie - deschis\nÎn data de 7 ianuarie 2026\, Muz
 eul Național de Artă al României va fi deschis publicului&nbsp\;între orel
 e 11.00 -19.00\, după cum urmează:- Galeria Națională:&nbsp\;Galeria de Ar
 tă Românească Modernă - etajul 2&nbsp\;- Expozițiile temporare:&nbsp\;„Rom
 ânia&nbsp\;–&nbsp\;reprezentarea identitară a portului popular în artă”\, 
 „József&nbsp\;&nbsp\;Klein și Școala de la Baia Mare”&nbsp\;și „Covoare Zb
 urătoare - Thomas Ruff &amp\; Transilvania &amp\; Anatolia”&nbsp\;\n8 - 11
  ianuarie - deschis\nGaleria de Artă Orientală și Decorativă va fi închisă
  în perioada 20 decembrie 2025 - 11 ianuarie&nbsp\;2026\nÎncepând cu 12 ia
 nuarie se revine la programul normal https://mail.mnar.ro/evenimente-muzeu
 /eveniment/859-program-de-sărbători
DTSTART:20251219T141712Z
DTEND:20260114T161712Z
LOCATION:Muzeul Național de Artă al României (Calea Victoriei 49-53\, Bucur
 ești\, România)
SUMMARY:Program de Sărbători
URL:https://mail.mnar.ro/evenimente-muzeu/eveniment/859-program-de-sărbător
 i
END:VEVENT
END:VCALENDAR
